BEGIN:VCALENDAR
VERSION:2.0
PRODID:-//Downtown Raleigh DTR - ECPv4.6.20.1//NONSGML v1.0//EN
CALSCALE:GREGORIAN
METHOD:PUBLISH
X-WR-CALNAME:Downtown Raleigh DTR
X-ORIGINAL-URL:https://downtownraleigh.com
X-WR-CALDESC:Events for Downtown Raleigh DTR
BEGIN:VEVENT
DTSTART;TZID=UTC+0:20180811T090000
DTEND;TZID=UTC+0:20180811T100000
DTSTAMP:20260420T042513
CREATED:20180712T153012Z
LAST-MODIFIED:20180712T153012Z
UID:205-1533978000-1533981600@downtownraleigh.com
SUMMARY:Yoga at Raleigh City Farm
DESCRIPTION:Yoga at Raleigh City Farm \n
URL:https://downtownraleigh.com/event/yoga-at-raleigh-city-farm/
END:VEVENT
END:VCALENDAR