BEGIN:VCALENDAR
VERSION:2.0
PRODID:-//Downtown Raleigh DTR - ECPv4.6.20.1//NONSGML v1.0//EN
CALSCALE:GREGORIAN
METHOD:PUBLISH
X-WR-CALNAME:Downtown Raleigh DTR
X-ORIGINAL-URL:https://downtownraleigh.com
X-WR-CALDESC:Events for Downtown Raleigh DTR
BEGIN:VEVENT
DTSTART;VALUE=DATE:20180727
DTEND;VALUE=DATE:20180730
DTSTAMP:20260424T172419
CREATED:20180709T171147Z
LAST-MODIFIED:20180709T171147Z
UID:142-1532664000-1532908799@downtownraleigh.com
SUMMARY:Raleigh Supercon
DESCRIPTION:
URL:https://downtownraleigh.com/event/raleigh-supercon/
END:VEVENT
END:VCALENDAR