BEGIN:VCALENDAR
VERSION:2.0
PRODID:-//Downtown Raleigh DTR - ECPv4.6.20.1//NONSGML v1.0//EN
CALSCALE:GREGORIAN
METHOD:PUBLISH
X-WR-CALNAME:Downtown Raleigh DTR
X-ORIGINAL-URL:https://downtownraleigh.com
X-WR-CALDESC:Events for Downtown Raleigh DTR
BEGIN:VEVENT
DTSTART;TZID=UTC+0:20180712T210000
DTEND;TZID=UTC+0:20180712T233000
DTSTAMP:20260425T192628
CREATED:20180712T164810Z
LAST-MODIFIED:20180712T164810Z
UID:214-1531429200-1531438200@downtownraleigh.com
SUMMARY:Oak City Nights at Kings
DESCRIPTION:http://www.kingsraleigh.com/shows/oak-city-nights/ \n  \n
URL:https://downtownraleigh.com/event/oak-city-nights-at-kings/
END:VEVENT
END:VCALENDAR