BEGIN:VCALENDAR
VERSION:2.0
PRODID:-//Downtown Raleigh DTR - ECPv4.6.20.1//NONSGML v1.0//EN
CALSCALE:GREGORIAN
METHOD:PUBLISH
X-WR-CALNAME:Downtown Raleigh DTR
X-ORIGINAL-URL:https://downtownraleigh.com
X-WR-CALDESC:Events for Downtown Raleigh DTR
BEGIN:VEVENT
DTSTART;TZID=UTC+0:20180721T080000
DTEND;TZID=UTC+0:20180721T120000
DTSTAMP:20260424T235517
CREATED:20180709T183645Z
LAST-MODIFIED:20180709T183646Z
UID:178-1532160000-1532174400@downtownraleigh.com
SUMMARY:Midtown Farmers Market at North Hills
DESCRIPTION:http://midtownfarmers.com/ \n
URL:https://downtownraleigh.com/event/midtown-farmers-market-at-north-hills/
END:VEVENT
END:VCALENDAR