BEGIN:VCALENDAR
VERSION:2.0
PRODID:-//Downtown Raleigh DTR - ECPv4.6.20.1//NONSGML v1.0//EN
CALSCALE:GREGORIAN
METHOD:PUBLISH
X-WR-CALNAME:Downtown Raleigh DTR
X-ORIGINAL-URL:https://downtownraleigh.com
X-WR-CALDESC:Events for Downtown Raleigh DTR
BEGIN:VEVENT
DTSTART;TZID=UTC+0:20180802T180000
DTEND;TZID=UTC+0:20180802T210000
DTSTAMP:20260424T093139
CREATED:20180712T165942Z
LAST-MODIFIED:20180712T165943Z
UID:221-1533232800-1533243600@downtownraleigh.com
SUMMARY:Midtown Beach Music Series Presents Band of Oz
DESCRIPTION:https://www.visitraleigh.com/event/midtown-beach-music-series%3a-band-of-oz/57539/ \n  \n
URL:https://downtownraleigh.com/event/midtown-beach-music-series-presents-band-of-oz/
END:VEVENT
END:VCALENDAR