BEGIN:VCALENDAR
VERSION:2.0
PRODID:-//Downtown Raleigh DTR - ECPv4.6.20.1//NONSGML v1.0//EN
CALSCALE:GREGORIAN
METHOD:PUBLISH
X-WR-CALNAME:Downtown Raleigh DTR
X-ORIGINAL-URL:https://downtownraleigh.com
X-WR-CALDESC:Events for Downtown Raleigh DTR
BEGIN:VEVENT
DTSTART;TZID=UTC+0:20180730T200000
DTEND;TZID=UTC+0:20180730T233000
DTSTAMP:20260424T133857
CREATED:20180712T164502Z
LAST-MODIFIED:20180712T164502Z
UID:212-1532980800-1532993400@downtownraleigh.com
SUMMARY:JD Wilkes and The Legendary Shack Shakers at The Pourhouse
DESCRIPTION:JD Wilkes and The Legendary Shack Shakers Unplugged \n \n  \n
URL:https://downtownraleigh.com/event/jd-wilkes-and-the-legendary-shack-shakers-at-the-pourhouse/
END:VEVENT
END:VCALENDAR