BEGIN:VCALENDAR
VERSION:2.0
PRODID:-//Downtown Raleigh DTR - ECPv4.6.20.1//NONSGML v1.0//EN
CALSCALE:GREGORIAN
METHOD:PUBLISH
X-WR-CALNAME:Downtown Raleigh DTR
X-ORIGINAL-URL:https://downtownraleigh.com
X-WR-CALDESC:Events for Downtown Raleigh DTR
BEGIN:VEVENT
DTSTART;TZID=UTC+0:20180711T110000
DTEND;TZID=UTC+0:20180711T140000
DTSTAMP:20260425T224504
CREATED:20180709T171016Z
LAST-MODIFIED:20180709T171016Z
UID:139-1531306800-1531317600@downtownraleigh.com
SUMMARY:DTR Farmers Market at Exchange Plaza
DESCRIPTION:http://www.raleigheatlocal.com/ \nWednesdays 11 am – 2 pm \n  \n
URL:https://downtownraleigh.com/event/dtr-farmers-market-at-exchange-plaza/
LOCATION:219 Fayetteville Street\, Raleigh\, 27601\, United States
END:VEVENT
END:VCALENDAR