BEGIN:VCALENDAR
VERSION:2.0
PRODID:-//Downtown Raleigh DTR - ECPv4.6.20.1//NONSGML v1.0//EN
CALSCALE:GREGORIAN
METHOD:PUBLISH
X-WR-CALNAME:Downtown Raleigh DTR
X-ORIGINAL-URL:https://downtownraleigh.com
X-WR-CALDESC:Events for Downtown Raleigh DTR
BEGIN:VEVENT
DTSTART;TZID=UTC+0:20180710T190000
DTEND;TZID=UTC+0:20180710T233000
DTSTAMP:20260426T002446
CREATED:20180709T171809Z
LAST-MODIFIED:20180709T171809Z
UID:149-1531249200-1531265400@downtownraleigh.com
SUMMARY:Chris Brown at Walnut Creek
DESCRIPTION:
URL:https://downtownraleigh.com/event/chris-brown-at-walnut-creek/
END:VEVENT
END:VCALENDAR