BEGIN:VCALENDAR
VERSION:2.0
PRODID:-//Downtown Raleigh DTR - ECPv4.6.20.1//NONSGML v1.0//EN
CALSCALE:GREGORIAN
METHOD:PUBLISH
X-WR-CALNAME:Downtown Raleigh DTR
X-ORIGINAL-URL:https://downtownraleigh.com
X-WR-CALDESC:Events for Downtown Raleigh DTR
BEGIN:VEVENT
DTSTART;TZID=UTC+0:20180803T200000
DTEND;TZID=UTC+0:20180803T220000
DTSTAMP:20260420T075536
CREATED:20180712T163827Z
LAST-MODIFIED:20180712T163827Z
UID:208-1533326400-1533333600@downtownraleigh.com
SUMMARY:Chris Blue at Duke Energy for the Performing Arts
DESCRIPTION:http://www.godowntownraleigh.com/go/duke-energy-center-for-the-performing-arts \n  \n
URL:https://downtownraleigh.com/event/chris-blue-at-duke-energy-for-the-performing-arts/
END:VEVENT
END:VCALENDAR