BEGIN:VCALENDAR
VERSION:2.0
PRODID:-//Downtown Raleigh DTR - ECPv4.6.20.1//NONSGML v1.0//EN
CALSCALE:GREGORIAN
METHOD:PUBLISH
X-WR-CALNAME:Downtown Raleigh DTR
X-ORIGINAL-URL:https://downtownraleigh.com
X-WR-CALDESC:Events for Downtown Raleigh DTR
BEGIN:VEVENT
DTSTART;TZID=UTC+0:20180713T200000
DTEND;TZID=UTC+0:20180713T220000
DTSTAMP:20260425T162021
CREATED:20180709T172455Z
LAST-MODIFIED:20180709T172455Z
UID:155-1531512000-1531519200@downtownraleigh.com
SUMMARY:Big Fish at Kennedy Theatre
DESCRIPTION:http://www.theatreraleigh.com/big-fish/ \n
URL:https://downtownraleigh.com/event/big-fish-at-kennedy-theatre/
END:VEVENT
END:VCALENDAR