BEGIN:VCALENDAR
VERSION:2.0
PRODID:-//Downtown Raleigh DTR - ECPv4.6.20.1//NONSGML v1.0//EN
CALSCALE:GREGORIAN
METHOD:PUBLISH
X-WR-CALNAME:Downtown Raleigh DTR
X-ORIGINAL-URL:https://downtownraleigh.com
X-WR-CALDESC:Events for Downtown Raleigh DTR
BEGIN:VEVENT
DTSTART;TZID=UTC+0:20180723T203000
DTEND;TZID=UTC+0:20180723T233000
DTSTAMP:20260424T203622
CREATED:20180712T165423Z
LAST-MODIFIED:20180712T165423Z
UID:217-1532377800-1532388600@downtownraleigh.com
SUMMARY:90's Music Bingo with DJ Keri the Red at Neptunes
DESCRIPTION:http://www.kingsraleigh.com/shows/90s-bingo/ \n  \n
URL:https://downtownraleigh.com/event/90s-music-bingo-with-dj-keri-the-red-at-neptunes/
END:VEVENT
END:VCALENDAR